BEGIN:VCALENDAR
VERSION:2.0
PRODID:-//wp-events-plugin.com//7.2.3.1//EN
BEGIN:VEVENT
UID:34@nats.mfnz.org
DTSTART;TZID=Pacific/Auckland:20260105T170000
DTEND;TZID=Pacific/Auckland:20260105T230000
DTSTAMP:20251013T094504Z
URL:https://nats.mfnz.org/nats_site/events/hangar-rat-p18/
SUMMARY:Indoor - Hangar Rat\, P18
DESCRIPTION:(FF04) Hangar Rat\n(FF17) P18
ATTACH;FMTTYPE=image/jpeg:https://nats.mfnz.org/nats_site/wp-content/uploa
 ds/2020/11/26172262_1561162540587616_3948033984465915217_o.jpg
CATEGORIES:Free Flight
LOCATION:Indoor Venue - Centralines Sports Complex\, 10 River Terrace\, Wai
 pukarau\, New Zealand\, 4200\, Hawkes Bay\, New Zealand
X-APPLE-STRUCTURED-LOCATION;VALUE=URI;X-ADDRESS=10 River Terrace\, Waipukar
 au\, New Zealand\, 4200\, Hawkes Bay\, New Zealand;X-APPLE-RADIUS=100;X-TI
 TLE=Indoor Venue - Centralines Sports Complex:geo:0,0
END:VEVENT
BEGIN:VTIMEZONE
TZID:Pacific/Auckland
X-LIC-LOCATION:Pacific/Auckland
BEGIN:DAYLIGHT
DTSTART:20250928T030000
TZOFFSETFROM:+1200
TZOFFSETTO:+1300
TZNAME:NZDT
END:DAYLIGHT
END:VTIMEZONE
END:VCALENDAR